BEGIN:VCALENDAR
PRODID:-//MME-Internettechnik//WebPresenter//DE
VERSION:1.0
BEGIN:VEVENT
DTSTART:20260706T030000Z
DTEND:20260710T030000Z
DESCRIPTION;ENCODING=QUOTED-PRINTABLE:Otterndorf=0D=0A=0D=0AKlassenfahrt der Klassen 3c, 3d, 3e und 3f=0D=0A=0D=0A
SUMMARY;ENCODING=QUOTED-PRINTABLE:Klassenfahrt der Klassen 3c, 3d, 3e und 3f
STATUS:NEEDS ACTION
END:VEVENT
END:VCALENDAR
