BEGIN:VCALENDAR
PRODID:-//MME-Internettechnik//WebPresenter//DE
VERSION:1.0
BEGIN:VEVENT
DTSTART:20260708T030000Z
DTEND:20260710T030000Z
DESCRIPTION;ENCODING=QUOTED-PRINTABLE:Damme=0D=0A=0D=0AKlassenfahrt der Klassen 3a und 3b=0D=0A=0D=0A
SUMMARY;ENCODING=QUOTED-PRINTABLE:Klassenfahrt der Klassen 3a und 3b
STATUS:NEEDS ACTION
END:VEVENT
END:VCALENDAR
