BEGIN:VCALENDAR
PRODID:-//MME-Internettechnik//WebPresenter//DE
VERSION:1.0
BEGIN:VEVENT
DTSTART:20260506T030000Z
DTEND:20260508T030000Z
DESCRIPTION;ENCODING=QUOTED-PRINTABLE:Bad Driburg=0D=0A=0D=0AKlassenfahrt der Klassen 4d und 4e=0D=0A=0D=0A
SUMMARY;ENCODING=QUOTED-PRINTABLE:Klassenfahrt der Klassen 4d und 4e
STATUS:NEEDS ACTION
END:VEVENT
END:VCALENDAR
